BEGIN:VCALENDAR
VERSION:2.0
PRODID:-//wp-events-plugin.com//7.2.2.1//EN
TZID:Europe/Prague
X-WR-TIMEZONE:Europe/Prague
BEGIN:VEVENT
UID:63@pratelegolfu.cz
DTSTART;TZID=Europe/Prague:20161008T090000
DTEND;TZID=Europe/Prague:20161008T160000
DTSTAMP:20161018T090414Z
URL:https://pratelegolfu.cz/udalosti/kamos-cup-2016-4/
SUMMARY:Auto Zeman Kámoš Cup 2016 (Poděbrady)
DESCRIPTION:Auto Zeman Kámoš Cup 2016 (Poděbrady)\nZlevněné fee: 500 K
 č\nStartovné: 450 Kč\n\nPřihlášky  |  Flight na přání  |  B
 irdie karta  |  Předpověď počasí  |  Výsledky  |  Fotky\n\nLi
 nk Přihlášky odkazuje přímo na příslušné stránky cgf.cz. Zde je 
 možné se přihlásit\, a to vždy nejdříve 30 dní před termínem tur
 naje. K odhláškám po uzávěrce prosím použijte tel. +420 603 551 17
 5!\n\nVšechny turnaje jsou vypsány za zlevněné fee + startovné. Hrá
 či platí podle své smlouvy s hřištěm – členové místních klubů
  obvykle pouze startovné\, podobně jako ČGK atd. Program turnajů je
  ZDE (registrace\, start...). Za interaktivní birdie kartu děkujeme 
 serveru Golfee.cz! :-)\n\n\n\n
CATEGORIES:Kámoš Cup 2016
LOCATION:Poděbrady\, Na Zálesí 530\, Poděbrady\, Česká republika
GEO:50.138127;15.144414
X-APPLE-STRUCTURED-LOCATION;VALUE=URI;X-ADDRESS=Na Zálesí 530\, Poděbrad
 y\, Česká republika;X-APPLE-RADIUS=100;X-TITLE=Poděbrady:geo:50.138127,
 15.144414
END:VEVENT
BEGIN:VTIMEZONE
TZID:Europe/Prague
X-LIC-LOCATION:Europe/Prague
BEGIN:DAYLIGHT
DTSTART:20160327T030000
TZOFFSETFROM:+0100
TZOFFSETTO:+0200
TZNAME:CEST
END:DAYLIGHT
END:VTIMEZONE
END:VCALENDAR