BEGIN:VCALENDAR
VERSION:2.0
PRODID:-//wp-events-plugin.com//7.2.2.1//EN
TZID:Europe/Prague
X-WR-TIMEZONE:Europe/Prague
BEGIN:VEVENT
UID:1023@pratelegolfu.cz
DTSTART;TZID=Europe/Prague:20210909T100000
DTEND;TZID=Europe/Prague:20210909T170000
DTSTAMP:20210913T084723Z
URL:https://pratelegolfu.cz/udalosti/subaru-emil-frey-eggo-cup-2021-4/
SUMMARY:Subaru Emil Frey Eggo Cup 2021
DESCRIPTION:[vc_row height="auto"][vc_column][vc_column_text][sam id="12" n
 ame="Kámoš Cup - leaderboard" codes="true"]\n\n&nbsp\;\n\nLink Přihl
 ášky odkazuje přímo na příslušné stránky cgf.cz. Zde je možné s
 e přihlásit\, a to vždy nejdříve 30 dní před termínem turnaje. K o
 dhláškám po uzávěrce prosím použijte tel. +420 603 551 175!\n\nVše
 chny turnaje jsou vypsány za zlevněné fee + startovné. Hráči platí 
 podle své smlouvy s hřištěm – členové místních klubů obvykle po
 uze startovné\, podobně jako ČGK atd.\n\nProgram turnajů je ZDE (reg
 istrace\, start…).[/vc_column_text][/vc_column][/vc_row]
CATEGORIES:Eggo Cup 2021
LOCATION:Poděbrady\, Na Zálesí 530\, Poděbrady\, Česká republika
GEO:50.138127;15.144414
X-APPLE-STRUCTURED-LOCATION;VALUE=URI;X-ADDRESS=Na Zálesí 530\, Poděbrad
 y\, Česká republika;X-APPLE-RADIUS=100;X-TITLE=Poděbrady:geo:50.138127,
 15.144414
END:VEVENT
BEGIN:VTIMEZONE
TZID:Europe/Prague
X-LIC-LOCATION:Europe/Prague
BEGIN:DAYLIGHT
DTSTART:20210328T030000
TZOFFSETFROM:+0100
TZOFFSETTO:+0200
TZNAME:CEST
END:DAYLIGHT
END:VTIMEZONE
END:VCALENDAR